BEGIN:VCALENDAR
VERSION:2.0
PRODID:GlueUp
CALSCALE:GREGORIAN
BEGIN:VTIMEZONE
TZID:UTC
BEGIN:STANDARD
DTSTART:19700101T000000
TZOFFSETFROM:+0000
TZOFFSETTO:+0000
TZNAME:UTC
END:STANDARD
END:VTIMEZONE
BEGIN:VEVENT
TZ:+00
ORGANIZER;CN=Leo Liu:MAILTO:sec_gip@gipbr.net
UID:48215-1776983473@https://ifs.glueup.cn
DTSTAMP:20260423T223113Z
DTSTART:20250930T070000Z
DTEND:20250930T093000Z
SUMMARY:GIP 7th Plenary Meeting
DESCRIPTION:GIP 7th Plenary Meeting by Capacity-building Alliance of Sustainable Investment (CASI)\n\nSep 30, 2025 (15:00 - 17:30)(GMT+8)\n\nFor more information, click here: https://ifs.glueup.cn/my/events/48215
LOCATION:Social Sciences Chamber, 11/F,. The Jockey Club Tower,. Centennial Campus, the. University of Hong Kong - Hong Kong - country-CN-HK
BEGIN:VALARM
TRIGGER:-PT48H
REPEAT:4
DURATION:PT30M
ACTION:DISPLAY
END:VALARM
END:VEVENT
END:VCALENDAR