BEGIN:VCALENDAR
VERSION:2.0
PRODID:GlueUp
CALSCALE:GREGORIAN
BEGIN:VTIMEZONE
TZID:UTC
BEGIN:STANDARD
DTSTART:19700101T000000
TZOFFSETFROM:+0000
TZOFFSETTO:+0000
TZNAME:UTC
END:STANDARD
END:VTIMEZONE
BEGIN:VEVENT
TZ:+00
ORGANIZER;CN=CASI Secretariat:MAILTO:casi@ifs.net.cn
UID:47952-1776983595@https://ifs.glueup.cn
DTSTAMP:20260423T223315Z
DTSTART:20250912T010000Z
DTEND:20250912T093000Z
SUMMARY:Building Capacity for a Transition Finance Ecosystem in Asia
DESCRIPTION:Building Capacity for a Transition Finance Ecosystem in Asia by Capacity-building Alliance of Sustainable Investment (CASI)\n\nSep 12, 2025 (09:00 - 17:30)(GMT+8)\n\nFor more information, click here: https://ifs.glueup.cn/my/events/47952
LOCATION:HKU iCube - 4005-07 - 40/F - Two Exchange Square - Central Hong Kong - China
BEGIN:VALARM
TRIGGER:-PT48H
REPEAT:4
DURATION:PT30M
ACTION:DISPLAY
END:VALARM
END:VEVENT
END:VCALENDAR